BEGIN:VCALENDAR
VERSION:2.0
PRODID:-//Philadelphia Local 158 - ECPv6.9.1//NONSGML v1.0//EN
CALSCALE:GREGORIAN
METHOD:PUBLISH
X-ORIGINAL-URL:https://philadelphiacarpenters158.org
X-WR-CALDESC:Events for Philadelphia Local 158
REFRESH-INTERVAL;VALUE=DURATION:PT1H
X-Robots-Tag:noindex
X-PUBLISHED-TTL:PT1H
BEGIN:VTIMEZONE
TZID:America/New_York
BEGIN:DAYLIGHT
TZOFFSETFROM:-0500
TZOFFSETTO:-0400
TZNAME:EDT
DTSTART:20170312T070000
END:DAYLIGHT
BEGIN:STANDARD
TZOFFSETFROM:-0400
TZOFFSETTO:-0500
TZNAME:EST
DTSTART:20171105T060000
END:STANDARD
END:VTIMEZONE
BEGIN:VEVENT
DTSTART;TZID=America/New_York:20171004T170000
DTEND;TZID=America/New_York:20171004T190000
DTSTAMP:20260425T103423
CREATED:20170708T190640Z
LAST-MODIFIED:20170708T191124Z
UID:91-1507136400-1507143600@philadelphiacarpenters158.org
SUMMARY:Stewards Meeting
DESCRIPTION:Monthly Stewards Meeting. Occurring monthly on the first Wednesday of every month.
URL:https://philadelphiacarpenters158.org/event/stewards-meeting-2/
LOCATION:PA
END:VEVENT
END:VCALENDAR